BEGIN:VCALENDAR
VERSION:2.0
PRODID:-//Southborough History and Arts Center - ECPv6.15.20//NONSGML v1.0//EN
CALSCALE:GREGORIAN
METHOD:PUBLISH
X-ORIGINAL-URL:https://fayvillehall.org
X-WR-CALDESC:Events for Southborough History and Arts Center
REFRESH-INTERVAL;VALUE=DURATION:PT1H
X-Robots-Tag:noindex
X-PUBLISHED-TTL:PT1H
BEGIN:VTIMEZONE
TZID:America/New_York
BEGIN:DAYLIGHT
TZOFFSETFROM:-0500
TZOFFSETTO:-0400
TZNAME:EDT
DTSTART:20250309T070000
END:DAYLIGHT
BEGIN:STANDARD
TZOFFSETFROM:-0400
TZOFFSETTO:-0500
TZNAME:EST
DTSTART:20251102T060000
END:STANDARD
BEGIN:DAYLIGHT
TZOFFSETFROM:-0500
TZOFFSETTO:-0400
TZNAME:EDT
DTSTART:20260308T070000
END:DAYLIGHT
BEGIN:STANDARD
TZOFFSETFROM:-0400
TZOFFSETTO:-0500
TZNAME:EST
DTSTART:20261101T060000
END:STANDARD
BEGIN:DAYLIGHT
TZOFFSETFROM:-0500
TZOFFSETTO:-0400
TZNAME:EDT
DTSTART:20270314T070000
END:DAYLIGHT
BEGIN:STANDARD
TZOFFSETFROM:-0400
TZOFFSETTO:-0500
TZNAME:EST
DTSTART:20271107T060000
END:STANDARD
END:VTIMEZONE
BEGIN:VEVENT
DTSTART;TZID=America/New_York:20260222T160000
DTEND;TZID=America/New_York:20260222T170000
DTSTAMP:20260423T124831
CREATED:20260101T173835Z
LAST-MODIFIED:20260210T215013Z
UID:10000609-1771776000-1771779600@fayvillehall.org
SUMMARY:Lost Southborough: Illustrated Talk and Book Signing
DESCRIPTION:Join author Michael Weishan for and illustrated talk at the History and Arts Center featuring work from his book\, Lost Southborough: Views into A Forgotten Past.\nDuring an engaging one-hour illustrated talk\, you’ll learn about the 300-year evolution of our town\, including its transformation from a rural farming community to a thriving suburban center. Discover how industry\, transportation\, and changing architecture shaped the lives of Southborough residents\, and explore rare photographs\, maps\, and stories that bring our shared history vividly to life. A book signing will follow the presentation. \nSunday\, February 22th 4-5 PM \nMembers: free\nNon-members: $5 cash at door \nTo reserve your seats\, select quantity below and then “Get Tickets” \n 
URL:https://fayvillehall.org/event/lost-southborough/
END:VEVENT
END:VCALENDAR