BEGIN:VCALENDAR
VERSION:2.0
PRODID:-//Southborough History and Arts Center - ECPv6.15.20//NONSGML v1.0//EN
CALSCALE:GREGORIAN
METHOD:PUBLISH
X-WR-CALNAME:Southborough History and Arts Center
X-ORIGINAL-URL:https://fayvillehall.org
X-WR-CALDESC:Events for Southborough History and Arts Center
REFRESH-INTERVAL;VALUE=DURATION:PT1H
X-Robots-Tag:noindex
X-PUBLISHED-TTL:PT1H
BEGIN:VTIMEZONE
TZID:America/New_York
BEGIN:DAYLIGHT
TZOFFSETFROM:-0500
TZOFFSETTO:-0400
TZNAME:EDT
DTSTART:20250309T070000
END:DAYLIGHT
BEGIN:STANDARD
TZOFFSETFROM:-0400
TZOFFSETTO:-0500
TZNAME:EST
DTSTART:20251102T060000
END:STANDARD
BEGIN:DAYLIGHT
TZOFFSETFROM:-0500
TZOFFSETTO:-0400
TZNAME:EDT
DTSTART:20260308T070000
END:DAYLIGHT
BEGIN:STANDARD
TZOFFSETFROM:-0400
TZOFFSETTO:-0500
TZNAME:EST
DTSTART:20261101T060000
END:STANDARD
BEGIN:DAYLIGHT
TZOFFSETFROM:-0500
TZOFFSETTO:-0400
TZNAME:EDT
DTSTART:20270314T070000
END:DAYLIGHT
BEGIN:STANDARD
TZOFFSETFROM:-0400
TZOFFSETTO:-0500
TZNAME:EST
DTSTART:20271107T060000
END:STANDARD
END:VTIMEZONE
BEGIN:VEVENT
DTSTART;TZID=America/New_York:20260302T093000
DTEND;TZID=America/New_York:20260302T123000
DTSTAMP:20260423T112904
CREATED:20251228T164724Z
LAST-MODIFIED:20260114T203125Z
UID:10000545-1772443800-1772454600@fayvillehall.org
SUMMARY:You Can Draw!
DESCRIPTION:If you’ve always wanted to learn to draw but felt a little nervous about where to start\, this class is for you! In a relaxed\, supportive setting\, you’ll discover that drawing is a skill anyone can learn—with a few simple techniques and some enjoyable practice. \nWe’ll explore “learning to see” methods that help you notice shapes\, light\, and shadows in a new way. Step by step\, you’ll build confidence as you learn how to translate what you see onto paper. You’ll work mainly with pencil and charcoal while getting plenty of guidance and encouragement along the way. \nNo experience is needed—just curiosity and a willingness to try. Whether you hope to develop a new creative hobby\, relax through art\, or simply prove to yourself that you can draw\, this class will help you enjoy the process and surprise yourself with what you create. \nInstructor: Tracy Spadafora\nRequired Materials: Charcoal and charcoal paper\nSuitable for 18 and above \nMondays for six weeks beginning 1/26/26   9:30 AM -12:30 PM (no class 2/16\, 3/16) \nRegister Now!\nNon Members $320\nMembers $280\nMinimum of 5; Limited to 15 \nNot already a Member? Join here to save! 
URL:https://fayvillehall.org/event/you-can-draw-2/2026-03-02/
LOCATION:Classroom/ Makerspace
CATEGORIES:Adult Classes and Workshops (18+),Teen Classes and Workshops (13-17)
ATTACH;FMTTYPE=image/jpeg:https://fayvillehall.org/wp-content/uploads/2025/05/AdobeStock_1579363055-scaled.jpeg
END:VEVENT
END:VCALENDAR