BEGIN:VCALENDAR
VERSION:2.0
PRODID:-//Southborough History and Arts Center - ECPv6.15.20//NONSGML v1.0//EN
CALSCALE:GREGORIAN
METHOD:PUBLISH
X-ORIGINAL-URL:https://fayvillehall.org
X-WR-CALDESC:Events for Southborough History and Arts Center
REFRESH-INTERVAL;VALUE=DURATION:PT1H
X-Robots-Tag:noindex
X-PUBLISHED-TTL:PT1H
BEGIN:VTIMEZONE
TZID:America/New_York
BEGIN:DAYLIGHT
TZOFFSETFROM:-0500
TZOFFSETTO:-0400
TZNAME:EDT
DTSTART:20250309T070000
END:DAYLIGHT
BEGIN:STANDARD
TZOFFSETFROM:-0400
TZOFFSETTO:-0500
TZNAME:EST
DTSTART:20251102T060000
END:STANDARD
BEGIN:DAYLIGHT
TZOFFSETFROM:-0500
TZOFFSETTO:-0400
TZNAME:EDT
DTSTART:20260308T070000
END:DAYLIGHT
BEGIN:STANDARD
TZOFFSETFROM:-0400
TZOFFSETTO:-0500
TZNAME:EST
DTSTART:20261101T060000
END:STANDARD
BEGIN:DAYLIGHT
TZOFFSETFROM:-0500
TZOFFSETTO:-0400
TZNAME:EDT
DTSTART:20270314T070000
END:DAYLIGHT
BEGIN:STANDARD
TZOFFSETFROM:-0400
TZOFFSETTO:-0500
TZNAME:EST
DTSTART:20271107T060000
END:STANDARD
END:VTIMEZONE
BEGIN:VEVENT
DTSTART;TZID=America/New_York:20260315T140000
DTEND;TZID=America/New_York:20260315T153000
DTSTAMP:20260423T113042
CREATED:20260213T164132Z
LAST-MODIFIED:20260311T170248Z
UID:10000624-1773583200-1773588600@fayvillehall.org
SUMMARY:Knox Trail Lecture
DESCRIPTION:The Southborough Historical Commission\, in cooperation with the Southborough Historical Society\, is pleased to invite the public to a compelling historical presentation by Ben Haley: “Commemorating Henry Knox and the ‘Noble Train of Artillery’ in the Automobile Age.” \nThis free event will take place on Sunday\, March 15\, 2026\, at 2 p.m. at the newly opened Southborough History & Arts Center at Fayville Village Hall\, located at 42 Central Street\, Southborough. \n \nHenry Knox\, painted by Gilbert Stuart in 1806. A former book store clerk and street brawler\, Knox rose to become Major General and eventually Washington’s Secretary of War. \nThe 1920s Knox Trail marker project generated the interest in General Henry Knox’s Ticonderoga expedition that remains to this day. Yet despite a dedicated effort to find Knox’s exact route\, what the 1920s Knox Commission ended up marking was not that; rather\, it was what their chairman described as “a new Knox Trail” catering to automobiles. Historian Ben Haley has traced this little-known story—of why the markers were erected where they were—through the rich correspondence surviving in the collection of the Knox Commission. \nThe Southborough Historical Commission is sponsoring this talk in recognition of Southborough’s Knox marker\, located at 28 Main Street\, and in celebration of General Knox’s passage through Southborough 250 years ago\, dragging the 60 tons of artillery pieces that would bring about the end of the Siege of Boston on March 17\, 1776 (celebrated as Evacuation Day). \nAbout the Speaker:\nBen Haley is a historian and Director of the National Register of Historic Places Program for the Massachusetts Historical Commission. He also shares his expertise in the classroom\, teaching historic preservation at the Massachusetts College of Art and Design. \nRESERVE YOUR SEAT TODAY: \nThe event is free and open to the public. However\, seating is limited and reservations are required. To reserve your place\, chose a quantity below and then click “Get Tickets.”
URL:https://fayvillehall.org/event/knox-trail-lecture/
LOCATION:Coming Up In the Assembly Room
ATTACH;FMTTYPE=image/jpeg:https://fayvillehall.org/wp-content/uploads/2026/02/Screenshot-2026-02-13-at-11.48.40-AM.jpg
END:VEVENT
END:VCALENDAR