BEGIN:VCALENDAR
VERSION:2.0
PRODID:-//Southborough History and Arts Center - ECPv6.15.20//NONSGML v1.0//EN
CALSCALE:GREGORIAN
METHOD:PUBLISH
X-ORIGINAL-URL:https://fayvillehall.org
X-WR-CALDESC:Events for Southborough History and Arts Center
REFRESH-INTERVAL;VALUE=DURATION:PT1H
X-Robots-Tag:noindex
X-PUBLISHED-TTL:PT1H
BEGIN:VTIMEZONE
TZID:America/New_York
BEGIN:DAYLIGHT
TZOFFSETFROM:-0500
TZOFFSETTO:-0400
TZNAME:EDT
DTSTART:20250309T070000
END:DAYLIGHT
BEGIN:STANDARD
TZOFFSETFROM:-0400
TZOFFSETTO:-0500
TZNAME:EST
DTSTART:20251102T060000
END:STANDARD
BEGIN:DAYLIGHT
TZOFFSETFROM:-0500
TZOFFSETTO:-0400
TZNAME:EDT
DTSTART:20260308T070000
END:DAYLIGHT
BEGIN:STANDARD
TZOFFSETFROM:-0400
TZOFFSETTO:-0500
TZNAME:EST
DTSTART:20261101T060000
END:STANDARD
BEGIN:DAYLIGHT
TZOFFSETFROM:-0500
TZOFFSETTO:-0400
TZNAME:EDT
DTSTART:20270314T070000
END:DAYLIGHT
BEGIN:STANDARD
TZOFFSETFROM:-0400
TZOFFSETTO:-0500
TZNAME:EST
DTSTART:20271107T060000
END:STANDARD
END:VTIMEZONE
BEGIN:VEVENT
DTSTART;TZID=America/New_York:20260329T140000
DTEND;TZID=America/New_York:20260329T160000
DTSTAMP:20260423T113001
CREATED:20260213T172009Z
LAST-MODIFIED:20260314T015835Z
UID:10000625-1774792800-1774800000@fayvillehall.org
SUMMARY:Southborough Salon Series: Mozart's Grand Partita and Dvorak's Serenade.  
DESCRIPTION:We are absolutely delighted to partner with the Claflin Hall Symphony Orchestra to launch what we hope will become a cherished tradition — the Southborough Salon Series\, presented three times each year. \nOur first concert features a 16-piece “wind serenade” program anchored by two beloved masterpieces of the chamber repertoire: Mozart’s radiant Gran Partita and Dvořák’s joyful Serenade for Winds. Mozart’s Gran Partita (K.361) is a luminous and spirited work from his creative prime\, blending graceful elegance with heartfelt lyricism — a perfect showcase for the expressive colors of a wind ensemble. Dvořák’s Serenade\, written more than a century later\, captures the warmth and optimism of his Bohemian roots\, filled with dance-inspired rhythms and folk-tinged melodies. Together\, these works embody the blend of intimacy and grandeur that makes wind music so captivating. \nEven more special\, this concert marks the long-awaited return of live music to the historic Fayville Village Hall — for the first time in more than sixty years. We’re thrilled to celebrate both timeless repertoire and the renewal of a beloved local gathering place for art\, community\, and connection.
URL:https://fayvillehall.org/event/southborough-salon-series-mozarts-grand-partita-and-dvoraks-serenade/
LOCATION:Coming Up In the Assembly Room
CATEGORIES:Public Events
ATTACH;FMTTYPE=image/jpeg:https://fayvillehall.org/wp-content/uploads/2026/02/AdobeStock_1911248667-scaled.jpeg
END:VEVENT
END:VCALENDAR