BEGIN:VCALENDAR
VERSION:2.0
PRODID:-//Southborough History and Arts Center - ECPv6.15.20//NONSGML v1.0//EN
CALSCALE:GREGORIAN
METHOD:PUBLISH
X-WR-CALNAME:Southborough History and Arts Center
X-ORIGINAL-URL:https://fayvillehall.org
X-WR-CALDESC:Events for Southborough History and Arts Center
REFRESH-INTERVAL;VALUE=DURATION:PT1H
X-Robots-Tag:noindex
X-PUBLISHED-TTL:PT1H
BEGIN:VTIMEZONE
TZID:America/New_York
BEGIN:DAYLIGHT
TZOFFSETFROM:-0500
TZOFFSETTO:-0400
TZNAME:EDT
DTSTART:20250309T070000
END:DAYLIGHT
BEGIN:STANDARD
TZOFFSETFROM:-0400
TZOFFSETTO:-0500
TZNAME:EST
DTSTART:20251102T060000
END:STANDARD
BEGIN:DAYLIGHT
TZOFFSETFROM:-0500
TZOFFSETTO:-0400
TZNAME:EDT
DTSTART:20260308T070000
END:DAYLIGHT
BEGIN:STANDARD
TZOFFSETFROM:-0400
TZOFFSETTO:-0500
TZNAME:EST
DTSTART:20261101T060000
END:STANDARD
BEGIN:DAYLIGHT
TZOFFSETFROM:-0500
TZOFFSETTO:-0400
TZNAME:EDT
DTSTART:20270314T070000
END:DAYLIGHT
BEGIN:STANDARD
TZOFFSETFROM:-0400
TZOFFSETTO:-0500
TZNAME:EST
DTSTART:20271107T060000
END:STANDARD
END:VTIMEZONE
BEGIN:VEVENT
DTSTART;TZID=America/New_York:20260117T170000
DTEND;TZID=America/New_York:20260117T190000
DTSTAMP:20260423T051345
CREATED:20250512T201046Z
LAST-MODIFIED:20260117T023005Z
UID:10000003-1768669200-1768676400@fayvillehall.org
SUMMARY:Four Artists Gallery Talk and Reception 1/17
DESCRIPTION:The Long Gallery opens its first-ever exhibit\, featuring the works of some of Southborough’s most notable artists\,Joe Landry\, Lucia and Warren Prosperi\, and Sigrid Knemeyer. \nJoin the four featured artists for an intimate and engaging panel conversation that looks beneath the surface of their work. \nThey will reflect on the sparks that ignite an idea\, how personal history\, place\, and memory shape their vision\, and the ways they transform fleeting impressions into finished pieces. \n​The discussion will also touch on the solitude and doubt that can accompany making art\, the discipline required to keep going\, and the small breakthroughs that make the struggle worthwhile. \n​Afterward\, adjourn to the Long Gallery for hors d’oeuvres and bubbles\, where you can continue the conversation with the artists in a relaxed setting and experience the works with fresh insight. \nSuggested Audience 18+\nSOLD OUT
URL:https://fayvillehall.org/event/four-artists/
LOCATION:Long Gallery
CATEGORIES:Art Exhibition
ATTACH;FMTTYPE=image/jpeg:https://fayvillehall.org/wp-content/uploads/2025/05/AE0BCE5B-C334-458A-A883-3F59577822A4_1_105_c.jpeg
END:VEVENT
END:VCALENDAR