BEGIN:VCALENDAR
VERSION:2.0
PRODID:-//Southborough History and Arts Center - ECPv6.15.20//NONSGML v1.0//EN
CALSCALE:GREGORIAN
METHOD:PUBLISH
X-WR-CALNAME:Southborough History and Arts Center
X-ORIGINAL-URL:https://fayvillehall.org
X-WR-CALDESC:Events for Southborough History and Arts Center
REFRESH-INTERVAL;VALUE=DURATION:PT1H
X-Robots-Tag:noindex
X-PUBLISHED-TTL:PT1H
BEGIN:VTIMEZONE
TZID:America/New_York
BEGIN:DAYLIGHT
TZOFFSETFROM:-0500
TZOFFSETTO:-0400
TZNAME:EDT
DTSTART:20250309T070000
END:DAYLIGHT
BEGIN:STANDARD
TZOFFSETFROM:-0400
TZOFFSETTO:-0500
TZNAME:EST
DTSTART:20251102T060000
END:STANDARD
BEGIN:DAYLIGHT
TZOFFSETFROM:-0500
TZOFFSETTO:-0400
TZNAME:EDT
DTSTART:20260308T070000
END:DAYLIGHT
BEGIN:STANDARD
TZOFFSETFROM:-0400
TZOFFSETTO:-0500
TZNAME:EST
DTSTART:20261101T060000
END:STANDARD
BEGIN:DAYLIGHT
TZOFFSETFROM:-0500
TZOFFSETTO:-0400
TZNAME:EDT
DTSTART:20270314T070000
END:DAYLIGHT
BEGIN:STANDARD
TZOFFSETFROM:-0400
TZOFFSETTO:-0500
TZNAME:EST
DTSTART:20271107T060000
END:STANDARD
END:VTIMEZONE
BEGIN:VEVENT
DTSTART;TZID=America/New_York:20260426T130000
DTEND;TZID=America/New_York:20260426T150000
DTSTAMP:20260423T074657
CREATED:20251227T164558Z
LAST-MODIFIED:20260210T214807Z
UID:10000478-1777208400-1777215600@fayvillehall.org
SUMMARY:Making Things Grow Indoors: Succulents
DESCRIPTION:Create Your Own Succulent Garden! \nLooking for an easy\, beautiful way to bring life and color to your outdoor space this year? A succulent garden might be the answer! While no garden truly runs itself\, these hardy\, low-maintenance plants come close. \nJoin Michael Weishan—former PBS host and nationally recognized garden designer—for a fun\, hands-on two-hour seminar all about succulents. You’ll learn how to combine unique shapes\, colors\, and textures to create your own miniature landscape—perfect for a sunny window\, porch\, deck\, or patio. \nDuring this interactive session\, you’ll explore: \n\n\nSucculent basics: What makes them special and which varieties to try. \n\n\nGrowth habits: How to choose plants that will thrive together over time. \n\n\nCare essentials: Tips for watering\, light\, and soil. \n\n\nDesign magic: Simple tricks for creating an eye-catching display. \n\n\nOngoing care: Easy maintenance for lasting beauty. \n\n\nWhat to bring: Your enthusiasm—and a wide\, shallow bowl or planter with a drainage hole (up to 12”).\nWhat we provide: Soil\, gravel\, and a gorgeous assortment of succulents available for purchase to complete your creation. \nYou’ll leave with a living work of art and all the know-how to keep it thriving. Come grow something special! \nSuitable for ages 12 and up. Limited to 20 participants.\nSunday April 26th \nMembers $35\nNon-Members $40\nNot already a Member? Join here to save!
URL:https://fayvillehall.org/event/create-your-own-succulent-garden-with-michael-weishan/
CATEGORIES:Adult Classes and Workshops (18+),Teen Classes and Workshops (13-17)
ATTACH;FMTTYPE=image/jpeg:https://fayvillehall.org/wp-content/uploads/2025/12/succulent-garden.jpg
END:VEVENT
END:VCALENDAR