BEGIN:VCALENDAR
VERSION:2.0
PRODID:-//Southborough History and Arts Center - ECPv6.15.20//NONSGML v1.0//EN
CALSCALE:GREGORIAN
METHOD:PUBLISH
X-ORIGINAL-URL:https://fayvillehall.org
X-WR-CALDESC:Events for Southborough History and Arts Center
REFRESH-INTERVAL;VALUE=DURATION:PT1H
X-Robots-Tag:noindex
X-PUBLISHED-TTL:PT1H
BEGIN:VTIMEZONE
TZID:America/New_York
BEGIN:DAYLIGHT
TZOFFSETFROM:-0500
TZOFFSETTO:-0400
TZNAME:EDT
DTSTART:20250309T070000
END:DAYLIGHT
BEGIN:STANDARD
TZOFFSETFROM:-0400
TZOFFSETTO:-0500
TZNAME:EST
DTSTART:20251102T060000
END:STANDARD
BEGIN:DAYLIGHT
TZOFFSETFROM:-0500
TZOFFSETTO:-0400
TZNAME:EDT
DTSTART:20260308T070000
END:DAYLIGHT
BEGIN:STANDARD
TZOFFSETFROM:-0400
TZOFFSETTO:-0500
TZNAME:EST
DTSTART:20261101T060000
END:STANDARD
BEGIN:DAYLIGHT
TZOFFSETFROM:-0500
TZOFFSETTO:-0400
TZNAME:EDT
DTSTART:20270314T070000
END:DAYLIGHT
BEGIN:STANDARD
TZOFFSETFROM:-0400
TZOFFSETTO:-0500
TZNAME:EST
DTSTART:20271107T060000
END:STANDARD
END:VTIMEZONE
BEGIN:VEVENT
DTSTART;TZID=America/New_York:20260411T150000
DTEND;TZID=America/New_York:20260411T160000
DTSTAMP:20260423T030226
CREATED:20260304T211511Z
LAST-MODIFIED:20260306T202317Z
UID:10000626-1775919600-1775923200@fayvillehall.org
SUMMARY:Slow Art Day 2026
DESCRIPTION:Immerse yourself in the Spring Exhibition\, The Nature of Whimsy: the Magical Etchings of J. Ann Eldridge\, and celebrate Slow Art Day at Fayville Hall. Join us and hundreds of other art galleries and museums around the world for an hour of slow looking and discussion.\n\nSlow Art Day Basics\n\n\n1) Sign up here to attend (it’s free).\n2) Attend and look at 5 pieces of art slowly (We will supply a list of works when you arrive.)\n3) Discuss your experience – Meet up with your host and the other participants in the gallery and discuss the work.
URL:https://fayvillehall.org/event/slow-art-day-2026/
LOCATION:Long Gallery
CATEGORIES:Events,Public Events
ATTACH;FMTTYPE=image/jpeg:https://fayvillehall.org/wp-content/uploads/2026/03/logo.jpg
END:VEVENT
END:VCALENDAR