BEGIN:VCALENDAR
VERSION:2.0
PRODID:-//Southborough History and Arts Center - ECPv6.15.20//NONSGML v1.0//EN
CALSCALE:GREGORIAN
METHOD:PUBLISH
X-ORIGINAL-URL:https://fayvillehall.org
X-WR-CALDESC:Events for Southborough History and Arts Center
REFRESH-INTERVAL;VALUE=DURATION:PT1H
X-Robots-Tag:noindex
X-PUBLISHED-TTL:PT1H
BEGIN:VTIMEZONE
TZID:America/New_York
BEGIN:DAYLIGHT
TZOFFSETFROM:-0500
TZOFFSETTO:-0400
TZNAME:EDT
DTSTART:20250309T070000
END:DAYLIGHT
BEGIN:STANDARD
TZOFFSETFROM:-0400
TZOFFSETTO:-0500
TZNAME:EST
DTSTART:20251102T060000
END:STANDARD
BEGIN:DAYLIGHT
TZOFFSETFROM:-0500
TZOFFSETTO:-0400
TZNAME:EDT
DTSTART:20260308T070000
END:DAYLIGHT
BEGIN:STANDARD
TZOFFSETFROM:-0400
TZOFFSETTO:-0500
TZNAME:EST
DTSTART:20261101T060000
END:STANDARD
BEGIN:DAYLIGHT
TZOFFSETFROM:-0500
TZOFFSETTO:-0400
TZNAME:EDT
DTSTART:20270314T070000
END:DAYLIGHT
BEGIN:STANDARD
TZOFFSETFROM:-0400
TZOFFSETTO:-0500
TZNAME:EST
DTSTART:20271107T060000
END:STANDARD
END:VTIMEZONE
BEGIN:VEVENT
DTSTART;TZID=America/New_York:20260422T190000
DTEND;TZID=America/New_York:20260422T210000
DTSTAMP:20260423T063438
CREATED:20260114T200356Z
LAST-MODIFIED:20260305T220152Z
UID:10000616-1776884400-1776891600@fayvillehall.org
SUMMARY:Storytelling Masterclass
DESCRIPTION:Do you have a story to tell?In this interactive\, two-hour masterclass\, you will learn the elements of a good story and an approach to preparing it for the stage. \nInspired by the style of The Moth\, this interactive workshop introduces the art and craft of personal storytelling. Participants will explore what makes a story compelling\, how to shape and refine a true story\, and how to deliver it with confidence and authenticity. We’ll cover where great story ideas come from\, techniques for editing and tightening your narrative\, and practical strategies for managing nerves and stage fright. \nBy the end of the class\, students will leave with the tools\, structure\, and confidence to craft a polished story on their own—whether for the stage\, the page\, or personal expression. \nWhat to expect: \n\nAn overview of the essential components of a great story\nTechniques for shaping\, refining\, and delivering personal narratives\nTips for finding story ideas in everyday life\nStrategies for handling stage fright and performance anxiety\nParticipant interaction\, including Q&A\nA take-home handout summarizing key concepts and tools\n\nWhat to bring:Story ideas (no writing or performance experience required). \nAges: Teens & Adults \nInstructor Bio\nCatherine Weber is a three-time Moth StorySLAM champion\, poet\, artist\, community organizer\, and marketing executive with a lifelong passion for the arts\, education\, and the environment. She has lived in Southborough\, Massachusetts\, for 29 years\, where she runs Art on the Trails\, an outdoor juried art program\, and owns a tiny art gallery at the end of her driveway. Catherine is the proud mom of her 25-year-old son\, Ben\, and her golden retriever\, Linus. Follow her on Instagram @catherinemweber
URL:https://fayvillehall.org/event/story-telling-master-class/
LOCATION:Library
CATEGORIES:Adult Classes and Workshops (18+),Classes and Workshops,Teen Classes and Workshops (13-17)
ATTACH;FMTTYPE=image/png:https://fayvillehall.org/wp-content/uploads/2026/01/mothstorytelling-880x495-3.png
END:VEVENT
BEGIN:VEVENT
DTSTART;TZID=America/New_York:20260319T190000
DTEND;TZID=America/New_York:20260319T203000
DTSTAMP:20260423T063438
CREATED:20251227T181220Z
LAST-MODIFIED:20260205T152804Z
UID:10000482-1773946800-1773952200@fayvillehall.org
SUMMARY:Three Stand-Alone Poetry Workshops: The "Dark Basket of a Blank Page"
DESCRIPTION:“The unknown is the dark basket into which we plunge our hands to bring out words that feed the hungry and clothe the poor—as good a definition of poetry as we might find.”\n-David Whyte\nTo read a poem\, we face an unknown: what is this poet saying?  To write a poem\, we face a blank page: what do I have to say?  How will I say it?  While at times the unknown can be exciting\, often it is terrifying\, and it keeps us from doing the creative work we want to do.  In these three\, stand-alone workshops\, we will: \n• Practice how to read poetry more adeptly.\n• Enjoy the conversations that open up between poems and our fellow workshop participants.\n• Hone our own poetic craft through drafting a new poem in each session.\n• Leave with prompts for further independent writing and suggestions for revisions. \nAll levels of writing experience are welcome.  Suitable for participants 16 years and older. \nThursday MARCH 19: 7:00-8:30PM\nThe “Dark Basket” of a New Season: Poems for spring\, growth and courage \nInstructor: Sarah Crowley Chestnut \nTickets\, per class\nNon-members $30\nMembers $25 \nNot already a Member? Join here to save! 
URL:https://fayvillehall.org/event/three-stand-alone-poetry-workshops-the-dark-basket-of-a-blank-page-2/
LOCATION:Library
CATEGORIES:Classes and Workshops
ATTACH;FMTTYPE=image/jpeg:https://fayvillehall.org/wp-content/uploads/2025/12/Firefly2.jpg
END:VEVENT
BEGIN:VEVENT
DTSTART;TZID=America/New_York:20260122T190000
DTEND;TZID=America/New_York:20260122T203000
DTSTAMP:20260423T063438
CREATED:20251227T180920Z
LAST-MODIFIED:20260106T034553Z
UID:10000481-1769108400-1769113800@fayvillehall.org
SUMMARY:Three Stand-Alone Poetry Workshops: The "Dark Basket of a Blank Page"
DESCRIPTION:“The unknown is the dark basket into which we plunge our hands to bring out words that feed the hungry and clothe the poor—as good a definition of poetry as we might find.”\n-David Whyte\nTo read a poem\, we face an unknown: what is this poet saying?  To write a poem\, we face a blank page: what do I have to say?  How will I say it?  While at times the unknown can be exciting\, often it is terrifying\, and it keeps us from doing the creative work we want to do.  In these three\, stand-alone workshops\, we will: \n• Practice how to read poetry more adeptly.\n• Enjoy the conversations that open up between poems and our fellow workshop participants.\n• Hone our own poetic craft through drafting a new poem in each session.\n• Leave with prompts for further independent writing and suggestions for revisions. \nAll levels of writing experience are welcome.  Suitable for participants 16 years and older. \nThursday JANUARY 22nd: 7:00 – 8:30PM\nThe “Dark Basket” of Winter: Poems for long nights and cold days \nInstructor: Sarah Crowley Chestnut \nTickets\, per class\nNon-members $30\nMembers $25 \nNot already a Member? Join here to save! 
URL:https://fayvillehall.org/event/three-stand-alone-poetry-workshops-the-dark-basket-of-a-blank-page/
LOCATION:Library
CATEGORIES:Adult Classes and Workshops (18+),Classes and Workshops,Teen Classes and Workshops (13-17)
ATTACH;FMTTYPE=image/jpeg:https://fayvillehall.org/wp-content/uploads/2025/12/Firefly_a-poem-being-read-on-a-long-cold-night-941701.jpg
END:VEVENT
END:VCALENDAR